BEGIN:VCALENDAR
VERSION:2.0
PRODID:-//Digital Dabblers - ECPv6.15.20//NONSGML v1.0//EN
CALSCALE:GREGORIAN
METHOD:PUBLISH
X-WR-CALNAME:Digital Dabblers
X-ORIGINAL-URL:https://digitaldabblers.com
X-WR-CALDESC:Events for Digital Dabblers
REFRESH-INTERVAL;VALUE=DURATION:PT1H
X-Robots-Tag:noindex
X-PUBLISHED-TTL:PT1H
BEGIN:VTIMEZONE
TZID:America/Los_Angeles
BEGIN:DAYLIGHT
TZOFFSETFROM:-0800
TZOFFSETTO:-0700
TZNAME:PDT
DTSTART:20220313T100000
END:DAYLIGHT
BEGIN:STANDARD
TZOFFSETFROM:-0700
TZOFFSETTO:-0800
TZNAME:PST
DTSTART:20221106T090000
END:STANDARD
BEGIN:DAYLIGHT
TZOFFSETFROM:-0800
TZOFFSETTO:-0700
TZNAME:PDT
DTSTART:20230312T100000
END:DAYLIGHT
BEGIN:STANDARD
TZOFFSETFROM:-0700
TZOFFSETTO:-0800
TZNAME:PST
DTSTART:20231105T090000
END:STANDARD
BEGIN:DAYLIGHT
TZOFFSETFROM:-0800
TZOFFSETTO:-0700
TZNAME:PDT
DTSTART:20240310T100000
END:DAYLIGHT
BEGIN:STANDARD
TZOFFSETFROM:-0700
TZOFFSETTO:-0800
TZNAME:PST
DTSTART:20241103T090000
END:STANDARD
END:VTIMEZONE
BEGIN:VEVENT
DTSTART;TZID=America/Los_Angeles:20230923T130000
DTEND;TZID=America/Los_Angeles:20230923T160000
DTSTAMP:20260424T204848
CREATED:20230920T031436Z
LAST-MODIFIED:20230924T052207Z
UID:1774-1695474000-1695484800@digitaldabblers.com
SUMMARY:Blender Intro to 3d Modeling Workshop for Beginners!
DESCRIPTION:Monthly Memberships are $29.99 and include attendance to all of our workshops\, the Sunday social\, and Friday Movie nights!\nRegister here: Monthly Supporter \nNon-member cost: $15 \nThis workshop is also on a sliding scale and open to everyone regardless of the means to pay. If you are at all curious about Blender\, or learning 3d animation in-person\, don’t hesitate just come join us! \nEVENT DESCRIPTION:\nJoin us for this LIVE Intro to Blender 3d Modeling Workshop for Beginners!\nIf you are a complete beginner to 3d animation or just want to brush up on your skills\, this workshop is perfect for you! We’ll cover the basics of Blender\, a powerful and popular 3d animation software\, and give you hands-on experience creating and rendering your own 3d models!\nAgenda: \n\nWe will start by going through an overview of Blender\, the UI\, settings/preferences\, and leave time for open Q/A (20 mins)\nNext we will begin modeling a coffee mug! (30-45 mins)\, this will cover the basics of 3d modeling such as: extruding\, bevel tool\, loop cuts\, tips/tricks for selecting and handling a 3d mesh.\nAfter this we will add some style to your 3d mug! (30 mins)\, covering the basics of setting up shader nodes and talking conceptually about rendering.\nLast\, we will render our mugs and compare results in two render engines (Cycles and Eevee).\n\nBut that’s not all – we’ll also have plenty of coffee on hand to keep you energized and focused throughout the workshop.\nYour co-host and barista Daniel will be serving Aeropress Latte’s\, Cappuccinos\, regular drip\, tea\, or seltzers. So come join us for a fun and informative day of learning and creativity!\nOPEN TO BEGINNERS:\nCan you draw a stick figure? Well then\, you are qualified to attend this event! People who have taken this workshop find that there is a lot of information and hands-on learning. If you are feeling like you need additional help after class with some of the concepts\, Daniel (TA and Host) will be available for virtual office hours. \nEmail for scheduling TA hours: daniel@digitaldabblers.com \nBEFORE YOU ARRIVE:\nBlender is cross-platform and runs equally well on Linux\, Windows\, and Mac computers. But before you arrive make sure your OS supports the latest version of Blender 3.6.2 LTS. Which can be downloaded here: https://www.blender.org/download/.\nIf you need a laptop we have two spare lab computers that can be rented for use during the workshop.\nWHAT IS BLENDER?\nBlender is the free and open source 3D creation suite. It supports the entirety of the 3D pipeline—modeling\, rigging\, animation\, simulation\, rendering\, compositing and motion tracking\, even video editing and game creation. Blender is licensed as GNU GPL\, owned by its contributors. For that reason Blender is Free and Open Source software\, forever.\nHow to Find Us:\nMake your way to the entrance (in-between My Fathers Place and Slow Bar) and search for DIGITAL DABBLE on the door buzzer. We will be upstairs (follow the sign) PLEASE CALL FOR ASSISTANCE IF YOU NEED TO USE THE ELEVATOR.
URL:https://digitaldabblers.com/events/blender-intro-to-3d-modeling-workshop-for-beginners-part-1/
LOCATION:Portland Digital Dabblers Events\, 529 SE Grand Ave Suite 300A\, Portland\, OR\, 97214\, United States
CATEGORIES:Workshops
ATTACH;FMTTYPE=image/webp:https://digitaldabblers.com/wp-content/uploads/2023/09/1774_image_676x380.webp
ORGANIZER;CN="Portland Digital Dabblers%3A Art%2C Animation & Tech Socials":MAILTO:dabbler-list@meetup.com
END:VEVENT
END:VCALENDAR